BEGIN:VCALENDAR
VERSION:2.0
PRODID:-//Ovens Murray Child &amp; Family Services Alliance - ECPv6.7.1//NONSGML v1.0//EN
CALSCALE:GREGORIAN
METHOD:PUBLISH
X-ORIGINAL-URL:https://omcfsalliance.com.au
X-WR-CALDESC:Events for Ovens Murray Child &amp; Family Services Alliance
REFRESH-INTERVAL;VALUE=DURATION:PT1H
X-Robots-Tag:noindex
X-PUBLISHED-TTL:PT1H
BEGIN:VTIMEZONE
TZID:UTC
BEGIN:STANDARD
TZOFFSETFROM:+0000
TZOFFSETTO:+0000
TZNAME:UTC
DTSTART:20240101T000000
END:STANDARD
END:VTIMEZONE
BEGIN:VEVENT
DTSTART;TZID=UTC:20240502T123000
DTEND;TZID=UTC:20240502T140000
DTSTAMP:20260424T114855
CREATED:20240408T010559Z
LAST-MODIFIED:20240408T010559Z
UID:1308-1714653000-1714658400@omcfsalliance.com.au
SUMMARY:OPEN Forum - Trauma-Informed insights\, Strategies for wellbeing
DESCRIPTION:OPEN Forum\nOPEN’s Forum provides trauma-informed insights and practical tools to help navigate the challenges of working in trauma-impactful environments while prioritising self-care and professional growth. Explore the importance of trauma-informed strategies in fostering wellbeing and effectiveness in complex settings. Session highlights include:\n•    Preventing compassion fatigue and burnout\n•    The role of supervision in trauma-informed practice\n•    Understanding neurobiology and resilience.\nSpeakers Megan Corcoran\, Director of Wagtail Institute\, and Donna Richards\, Senior Consultant at the Australian Childhood Foundation\, will offers invaluable insights into enhancing trauma-informed practice for practitioners and leaders. Don’t miss this opportunity to deepen your understanding of trauma-informed care and enhance your professional practice. \nREGISTER
URL:https://omcfsalliance.com.au/training-and-practice/open-forum-trauma-informed-insights-strategies-for-wellbeing/
END:VEVENT
END:VCALENDAR