BEGIN:VCALENDAR
VERSION:2.0
PRODID:-//Ovens Murray Child &amp; Family Services Alliance - ECPv6.7.1//NONSGML v1.0//EN
CALSCALE:GREGORIAN
METHOD:PUBLISH
X-WR-CALNAME:Ovens Murray Child &amp; Family Services Alliance
X-ORIGINAL-URL:https://omcfsalliance.com.au
X-WR-CALDESC:Events for Ovens Murray Child &amp; Family Services Alliance
REFRESH-INTERVAL;VALUE=DURATION:PT1H
X-Robots-Tag:noindex
X-PUBLISHED-TTL:PT1H
BEGIN:VTIMEZONE
TZID:UTC
BEGIN:STANDARD
TZOFFSETFROM:+0000
TZOFFSETTO:+0000
TZNAME:UTC
DTSTART:20240101T000000
END:STANDARD
END:VTIMEZONE
BEGIN:VEVENT
DTSTART;TZID=UTC:20240430T090000
DTEND;TZID=UTC:20240430T163000
DTSTAMP:20260424T114805
CREATED:20240212T230510Z
LAST-MODIFIED:20240212T230510Z
UID:1191-1714467600-1714494600@omcfsalliance.com.au
SUMMARY:Blue Knot Foundation - Managing Wellbeing and Recognising Vicarious Trauma
DESCRIPTION:Online – 1 day\, 09:00 AM ACST – 04:30 PM ACST \nThis training program explores the nature\, dynamics and risks of vicarious trauma and supports you to stay healthy and safe in your work. This training\, informed by current research\, will provide you with the knowledge\, skills and tools to better recognise the early signs of various stress outcomes. \n\nProfessional Member Discount $310.00  GST\nGroup Booking (3 or more people) Per Person Rate $330.00  GST\n$350.00  GST\n\nREGISTER
URL:https://omcfsalliance.com.au/training-and-practice/blue-knot-foundation-managing-wellbeing-and-recognising-vicarious-trauma-2/
END:VEVENT
END:VCALENDAR