BEGIN:VCALENDAR
VERSION:2.0
PRODID:-//Ovens Murray Child &amp; Family Services Alliance - ECPv6.7.1//NONSGML v1.0//EN
CALSCALE:GREGORIAN
METHOD:PUBLISH
X-WR-CALNAME:Ovens Murray Child &amp; Family Services Alliance
X-ORIGINAL-URL:https://omcfsalliance.com.au
X-WR-CALDESC:Events for Ovens Murray Child &amp; Family Services Alliance
REFRESH-INTERVAL;VALUE=DURATION:PT1H
X-Robots-Tag:noindex
X-PUBLISHED-TTL:PT1H
BEGIN:VTIMEZONE
TZID:UTC
BEGIN:STANDARD
TZOFFSETFROM:+0000
TZOFFSETTO:+0000
TZNAME:UTC
DTSTART:20240101T000000
END:STANDARD
END:VTIMEZONE
BEGIN:VEVENT
DTSTART;TZID=UTC:20240423T093000
DTEND;TZID=UTC:20240423T100000
DTSTAMP:20260424T131342
CREATED:20240206T023854Z
LAST-MODIFIED:20240207T050339Z
UID:1089-1713864600-1713866400@omcfsalliance.com.au
SUMMARY:The Orange Door Ovens Murray Area Online Workshops - Referrals to The Orange Door
DESCRIPTION:  \n\n\n\n\n\n\n\n\n\n\n\n\n\n\n\n\nThe Orange Door Ovens Murray Area is hosting 30-minute online workshops each month in February to April 2024 to foster understanding of the role and functions of The Orange Door and referral pathways.\nThe workshops are designed for staff or volunteers in the Ovens Murray Area (LGAs of Alpine\, Benalla\, Indigo\, Mansfield\, Towong\, Wangaratta\, Wodonga) who will potentially refer clients to The Orange Door. \nThe Orange Door provides free support for:\n• People experiencing family violence or who are at risk of family violence\n• People seeking assistance with child wellbeing and development\n• People seeking support to change their behaviour and stop using violence \nThe Orange Door provides the following key functions:\n• Risk and needs assessment\n• Safety planning\n• Crisis intervention\n• Brokerage\n• Connection to support services \nContent is the same for each workshop – participants only need to attend one workshop. Participants do not need to register to attend – simply join the workshop using the links below\n\nTuesday 23rd April – 9.30am to 10.00am – Click here to join the meeting  \nPlease direct any queries to Anna Mackinlay – Service System Navigator\, The Orange Door Ovens Murray Area \nE: anna.mackinlay@familysafety.vic.gov.au P: 1800 271 157
URL:https://omcfsalliance.com.au/training-and-practice/the-orange-door-ovens-murray-online-workshops-referrals-to-the-orange-door/
ATTACH;FMTTYPE=image/png:https://omcfsalliance.com.au/wp-content/uploads/2024/02/The-orange-door-online-workshops.png
END:VEVENT
END:VCALENDAR