BEGIN:VCALENDAR
VERSION:2.0
PRODID:-//Ovens Murray Child &amp; Family Services Alliance - ECPv6.7.1//NONSGML v1.0//EN
CALSCALE:GREGORIAN
METHOD:PUBLISH
X-WR-CALNAME:Ovens Murray Child &amp; Family Services Alliance
X-ORIGINAL-URL:https://omcfsalliance.com.au
X-WR-CALDESC:Events for Ovens Murray Child &amp; Family Services Alliance
REFRESH-INTERVAL;VALUE=DURATION:PT1H
X-Robots-Tag:noindex
X-PUBLISHED-TTL:PT1H
BEGIN:VTIMEZONE
TZID:UTC
BEGIN:STANDARD
TZOFFSETFROM:+0000
TZOFFSETTO:+0000
TZNAME:UTC
DTSTART:20240101T000000
END:STANDARD
END:VTIMEZONE
BEGIN:VEVENT
DTSTART;TZID=UTC:20240411T090000
DTEND;TZID=UTC:20240411T163000
DTSTAMP:20260424T131342
CREATED:20240218T231502Z
LAST-MODIFIED:20240218T231502Z
UID:1205-1712826000-1712853000@omcfsalliance.com.au
SUMMARY:Centre for Mental Health Learning - Mental Health and the Child Information Scheme
DESCRIPTION:Date: Thursday 11 April 2024\nTime: 9:00am-4:30pm\nVenue: Ibis Melbourne \nThe Child Information Sharing Scheme (CISS) enables information sharing between prescribed organisations to promote a child’s wellbeing and safety. This 1-day interactive workshop brings together organisational leaders and practitioners from prescribed sectors within to explore the mental health aspect of child wellbeing\, and the implementation of child information sharing in the community. For speakers\, objectives\, and further details\, please visit registration page \nSpeakers include: \n\nNerida Mason (Manager – Information Sharing Implementation\, Victorian Child Information Sharing Division\, Department of Education)\nProfessor Daryl Higgins (Director of the Institute of Child Protection Studies\, Australian Catholic University)\nAdrienne Lipscomb (Aboriginal Senior Therapeutic Practitioner\, Social and Emotional Wellbeing in Aboriginal and Torres Strait Islander Families\, University of Melbourne)\nJulie Ngwabi (Senior Child Mental Health Advisor – Health\, Emerging Minds Australia)\n\n  \nQuestions? Email shaina.serelson@cmhl.org.au \n\n\n\nRegister now\n\n\n\n  \n  \n 
URL:https://omcfsalliance.com.au/training-and-practice/centre-for-mental-health-learning-mental-health-and-the-child-information-scheme/
END:VEVENT
END:VCALENDAR