BEGIN:VCALENDAR
VERSION:2.0
PRODID:-//Ovens Murray Child &amp; Family Services Alliance - ECPv6.7.1//NONSGML v1.0//EN
CALSCALE:GREGORIAN
METHOD:PUBLISH
X-WR-CALNAME:Ovens Murray Child &amp; Family Services Alliance
X-ORIGINAL-URL:https://omcfsalliance.com.au
X-WR-CALDESC:Events for Ovens Murray Child &amp; Family Services Alliance
REFRESH-INTERVAL;VALUE=DURATION:PT1H
X-Robots-Tag:noindex
X-PUBLISHED-TTL:PT1H
BEGIN:VTIMEZONE
TZID:UTC
BEGIN:STANDARD
TZOFFSETFROM:+0000
TZOFFSETTO:+0000
TZNAME:UTC
DTSTART:20240101T000000
END:STANDARD
END:VTIMEZONE
BEGIN:VEVENT
DTSTART;TZID=UTC:20240328T120000
DTEND;TZID=UTC:20240328T130000
DTSTAMP:20260424T144801
CREATED:20240207T222947Z
LAST-MODIFIED:20240207T224108Z
UID:1132-1711627200-1711630800@omcfsalliance.com.au
SUMMARY:Blue Knot Foundation - Building Trauma Awareness (Webinar)
DESCRIPTION:  \n \nOnline- 1 hour\, 12:00 PM AEDT – 01:00 PM AEDT \nThis one hour webinar provides foundational knowledge in the area of Complex Trauma. This webinar is aimed at a diverse range of roles and focused on understanding trauma. \n\n$60.00  GST\nREGISTER
URL:https://omcfsalliance.com.au/training-and-practice/blueknot-pub-building-trauma-awareness-webinar/
END:VEVENT
END:VCALENDAR