BEGIN:VCALENDAR
VERSION:2.0
PRODID:-//Ovens Murray Child &amp; Family Services Alliance - ECPv6.7.1//NONSGML v1.0//EN
CALSCALE:GREGORIAN
METHOD:PUBLISH
X-WR-CALNAME:Ovens Murray Child &amp; Family Services Alliance
X-ORIGINAL-URL:https://omcfsalliance.com.au
X-WR-CALDESC:Events for Ovens Murray Child &amp; Family Services Alliance
REFRESH-INTERVAL;VALUE=DURATION:PT1H
X-Robots-Tag:noindex
X-PUBLISHED-TTL:PT1H
BEGIN:VTIMEZONE
TZID:UTC
BEGIN:STANDARD
TZOFFSETFROM:+0000
TZOFFSETTO:+0000
TZNAME:UTC
DTSTART:20240101T000000
END:STANDARD
END:VTIMEZONE
BEGIN:VEVENT
DTSTART;TZID=UTC:20240321T123000
DTEND;TZID=UTC:20240321T140000
DTSTAMP:20260424T150457
CREATED:20240211T210547Z
LAST-MODIFIED:20240211T210548Z
UID:1167-1711024200-1711029600@omcfsalliance.com.au
SUMMARY:OPEN Forum: Evidence everywhere\, everyday\, everyone - Take the next steps on your Outcomes Journey with OPEN
DESCRIPTION:OPEN and Children Australia \nBook now \nMarch 21\, 2024 – 12.30PM to 2.00PM – Online \nYou’re invited to attend our first OPEN event of 2024. Come along on Thursday 21st March at 12:30pm to hear from the OPEN team on how we can support you to build your everyday evidence. \nOPEN will provide an overview of the Outcomes Journey and launch a new suite of tools. We’ll go through our service offering including upcoming training\, and a guided walk through of our OPEN Portal. \nChildren Australia Journal Senior Editor Melissa Storey will join us to share tips on using existing evidence\, using your own evidence\, and sharing it through the journal. \nWe will invite our friends to share learnings from their own evidence journey and ask the audience to share their own learnings or ask questions to gain insights into the next steps for your own journey. \nThis forum will be a celebration of the progress of how far we’ve come as a sector\, with OPEN’s new offerings responding to the sector’s enthusiasm to embed evidence further and launch us into the next phase of our collective evidence journey. \nBook now
URL:https://omcfsalliance.com.au/training-and-practice/open-forum-evidence-everywhere-everyday-everyone-take-the-next-steps-on-your-outcomes-journey-with-open/
END:VEVENT
BEGIN:VEVENT
DTSTART;TZID=UTC:20240321T160000
DTEND;TZID=UTC:20240321T163000
DTSTAMP:20260424T150457
CREATED:20240206T023705Z
LAST-MODIFIED:20240207T050152Z
UID:1086-1711036800-1711038600@omcfsalliance.com.au
SUMMARY:The Orange Door Ovens Murray Area Online Workshops - Referrals to The Orange Door
DESCRIPTION:  \n\n\n\n\n\n\n\n\n\n\n\n\n\n\n\n\nThe Orange Door Ovens Murray Area is hosting 30-minute online workshops each month in February to April 2024 to foster understanding of the role and functions of The Orange Door and referral pathways.\nThe workshops are designed for staff or volunteers in the Ovens Murray Area (LGAs of Alpine\, Benalla\, Indigo\, Mansfield\, Towong\, Wangaratta\, Wodonga) who will potentially refer clients to The Orange Door.The Orange Door provides free support for:\n• People experiencing family violence or who are at risk of family violence\n• People seeking assistance with child wellbeing and development\n• People seeking support to change their behaviour and stop using violenceThe Orange Door provides the following key functions:\n• Risk and needs assessment\n• Safety planning\n• Crisis intervention\n• Brokerage\n• Connection to support services \nContent is the same for each workshop – participants only need to attend one workshop. Participants do not need to register to attend – simply join the workshop using the links below\n\nThursday 21st March – 4.00pm to 4.30pm – Click here to join the meeting \nPlease direct any queries to Anna Mackinlay – Service System Navigator\, The Orange Door Ovens Murray Area \nE: anna.mackinlay@familysafety.vic.gov.au P: 1800 271 157\n\n\n\n\n\n\n\n\n\n\n\n\n\n\n\n 
URL:https://omcfsalliance.com.au/training-and-practice/the-orange-door-ovens-murray-area-online-workshops-referrals-to-the-orange-door-2/
ATTACH;FMTTYPE=image/png:https://omcfsalliance.com.au/wp-content/uploads/2024/02/The-orange-door-online-workshops.png
END:VEVENT
BEGIN:VEVENT
DTSTART;TZID=UTC:20240321T160000
DTEND;TZID=UTC:20240321T200000
DTSTAMP:20260424T150457
CREATED:20240208T001729Z
LAST-MODIFIED:20240208T001858Z
UID:1154-1711036800-1711051200@omcfsalliance.com.au
SUMMARY:PreventX In-Person Event
DESCRIPTION:We understand the importance of connecting with like-minded practitioners and advocates working in the prevention of family and gender-based violence. That’s why we’re thrilled to invite you and the broader Partners in Prevention Network to a face-to-face event on Thursday 21 March 2024.   \n4pm to 8pm\nThe Wheeler Centre\, 176 Little Lonsdale Street\, Melbourne Victoria 3000 \n$50 + GST (pitchers attend free!)  \nAn integral part of the PreventX 2024 conference\, this event aims to amplify the ideas of practitioners in Victoria and beyond\, to influence the future of primary prevention. There are two ways to get involved – we invite you to take on the challenge of pitching or you can join our supportive audience.\nReady to be a voice for change? We are on the lookout for the most compelling pitches that bring forward new and emerging ideas. Your contribution will help shape current and future prevention messaging\, influencing a national audience.\nIf you’re a practitioner with an idea about how we can prevent family and gender-based violence in Australia right now\, we want to hear from you! Inspired by the 3-minute thesis competition\, we’re inviting you to share a 3-minute pitch to a friendly and inclusive audience at the Wheeler Centre. This is an opportunity to craft and amplify messages that truly matter. If you’re not from Melbourne\, we would still love to hear from you and we can stream you to our live audience in via Zoom. Learn more about submitting your pitch below.\nDon’t have a pitch to submit? As a member of our audience\, we invite you to support our pitching practitioners and to cast your vote at the end of the night. \nJoin us in Melbourne to network\, collaborate\, and help shape the future of prevention at the PreventX in-person event. Book your spot today! \nBUY YOUR TICKETS HERE
URL:https://omcfsalliance.com.au/training-and-practice/preventx-in-person-event/
END:VEVENT
END:VCALENDAR