BEGIN:VCALENDAR
VERSION:2.0
PRODID:-//Ovens Murray Child &amp; Family Services Alliance - ECPv6.7.1//NONSGML v1.0//EN
CALSCALE:GREGORIAN
METHOD:PUBLISH
X-WR-CALNAME:Ovens Murray Child &amp; Family Services Alliance
X-ORIGINAL-URL:https://omcfsalliance.com.au
X-WR-CALDESC:Events for Ovens Murray Child &amp; Family Services Alliance
REFRESH-INTERVAL;VALUE=DURATION:PT1H
X-Robots-Tag:noindex
X-PUBLISHED-TTL:PT1H
BEGIN:VTIMEZONE
TZID:UTC
BEGIN:STANDARD
TZOFFSETFROM:+0000
TZOFFSETTO:+0000
TZNAME:UTC
DTSTART:20240101T000000
END:STANDARD
END:VTIMEZONE
BEGIN:VEVENT
DTSTART;TZID=UTC:20240319T080000
DTEND;TZID=UTC:20240320T170000
DTSTAMP:20260424T144801
CREATED:20240208T000751Z
LAST-MODIFIED:20240208T002034Z
UID:1149-1710835200-1710954000@omcfsalliance.com.au
SUMMARY:PreventX Online Conference
DESCRIPTION:Tuesday 19 March & Wednesday 20 March 2024 \nProgram to be announced.\nEarly bird tickets are on sale now!   Buy your ticket here > \n\n\n\n\n\n\n\n\n\n\n\n\n\n\n\nPreventX: Messaging for a Movement is the national conference for those who want to create change and prevent family and gender-based violence.\n\n\n\n\n\n\n\n\n\nPreventX forms one of the largest single gatherings of professionals working to prevent family and gender-based violence. \nFirst held in 2019\, PreventX is our national conference for those who want to create change and prevent violence. In 2024\, the conference will look at one of the fundamentals of primary prevention – how we craft and deliver messages that shift hearts and minds to deliver long-term and sustainable social change to prevent family and gender-based violence.  \n\n\n  \n 
URL:https://omcfsalliance.com.au/training-and-practice/preventx-conference-in-person-event/
END:VEVENT
END:VCALENDAR