BEGIN:VCALENDAR
VERSION:2.0
PRODID:-//Ovens Murray Child &amp; Family Services Alliance - ECPv6.7.1//NONSGML v1.0//EN
CALSCALE:GREGORIAN
METHOD:PUBLISH
X-ORIGINAL-URL:https://omcfsalliance.com.au
X-WR-CALDESC:Events for Ovens Murray Child &amp; Family Services Alliance
REFRESH-INTERVAL;VALUE=DURATION:PT1H
X-Robots-Tag:noindex
X-PUBLISHED-TTL:PT1H
BEGIN:VTIMEZONE
TZID:UTC
BEGIN:STANDARD
TZOFFSETFROM:+0000
TZOFFSETTO:+0000
TZNAME:UTC
DTSTART:20240101T000000
END:STANDARD
END:VTIMEZONE
BEGIN:VEVENT
DTSTART;TZID=UTC:20240313T080000
DTEND;TZID=UTC:20240315T170000
DTSTAMP:20260424T150456
CREATED:20240205T031305Z
LAST-MODIFIED:20240205T031305Z
UID:1041-1710316800-1710522000@omcfsalliance.com.au
SUMMARY:2024 Safe & Together™ Model Asia Pacific Conference
DESCRIPTION:REGISTER NOW\n\n\nNEW: Now In Person and Fully Streaming ALL 3 DAYS!\nYou can attend both the Masterclasses & Conference online\nEmpower Your Practice: Join the Global Community at the Safe & Together Model 2024 Asia Pacific Conference on March 13-15\, 2024!\nTurn Commitment into Action\nA Global Gathering for Change Makers\nProfessionals from around the world are coming together for an intensive 3-day journey into the heart of the Safe & Together Model. Connect with international experts\, frontline practitioners\, and policy-makers dedicated to ending family violence.\n\nWhy Attend?\n\nHands-On Learning: Engage in practical\, scenario-based workshops that will sharpen your skills and deepen your understanding of how to support families affected by domestic violence.\nExpert Insights: Hear from leaders in the field as they share cutting-edge research\, policy developments\, and inspiring success stories from across the globe.\nNetworking Opportunities: Build lasting connections with professionals across disciplines in a collaborative environment dedicated to systemic change.\nResource-Rich Environment: Access a wealth of materials and tools that can transform your practice and enhance collaborative responses to domestic violence.\n\n**Recordings will be available to all registrants for on-demand viewing for six months following the live conference**
URL:https://omcfsalliance.com.au/training-and-practice/2024-safe-together-model-asia-pacific-conference/
END:VEVENT
BEGIN:VEVENT
DTSTART;TZID=UTC:20240313T130000
DTEND;TZID=UTC:20240313T133000
DTSTAMP:20260424T150456
CREATED:20240225T222106Z
LAST-MODIFIED:20240225T222106Z
UID:1212-1710334800-1710336600@omcfsalliance.com.au
SUMMARY:AIFS - How developmental evaluation can be used to develop and adapt social services programs
DESCRIPTION:Presenters: Sandra Opoku (Relationships Australia Victoria) and Jessica Smart (AIFS)\nDate & time: Wednesday 13 March 2024\, 1:00 – 1:30PM (AEDT). Find your time zone \nRegister here \nEvaluation is quickly becoming a necessary part of service delivery and decision making in child and family services. Traditional forms of evaluation can take a long time to produce the results needed to enhance service delivery. In contrast\, developmental evaluation involves learning as you go\, meaning evaluators can test new approaches\, track program implementation and design initiatives that are responsive to context and need. This makes developmental evaluation useful for providers working in dynamic environments that require responsive interventions. \nThis webinar will explore how Relationships Australia Victoria used developmental evaluation to adapt their Men’s Behaviour Change Program (MBCP) to online delivery during the COVID-19 pandemic. \nRelationships Australia Victoria’s Lead Evaluator\, Sandra Opoku\, will discuss how and why she used developmental evaluation with the MBCP\, the results of the evaluation and what she learned along the way.\nThis webinar will give you: \n\nan understanding of how to design and implement a developmental evaluation\ninsight into what evidence a developmental evaluation can generate\nan understanding of what developmental evaluation can and can’t be used for.\n\nThis webinar will be of interest to practitioners\, managers and evaluators working in child and family services.\nPlease note: This pre-recorded interview runs for 30-minutes. There will be no live facilitation or audience questions.
URL:https://omcfsalliance.com.au/training-and-practice/aifs-how-developmental-evaluation-can-be-used-to-develop-and-adapt-social-services-programs/
END:VEVENT
END:VCALENDAR