BEGIN:VCALENDAR
VERSION:2.0
PRODID:-//Ovens Murray Child &amp; Family Services Alliance - ECPv6.7.1//NONSGML v1.0//EN
CALSCALE:GREGORIAN
METHOD:PUBLISH
X-WR-CALNAME:Ovens Murray Child &amp; Family Services Alliance
X-ORIGINAL-URL:https://omcfsalliance.com.au
X-WR-CALDESC:Events for Ovens Murray Child &amp; Family Services Alliance
REFRESH-INTERVAL;VALUE=DURATION:PT1H
X-Robots-Tag:noindex
X-PUBLISHED-TTL:PT1H
BEGIN:VTIMEZONE
TZID:UTC
BEGIN:STANDARD
TZOFFSETFROM:+0000
TZOFFSETTO:+0000
TZNAME:UTC
DTSTART:20240101T000000
END:STANDARD
END:VTIMEZONE
BEGIN:VEVENT
DTSTART;TZID=UTC:20240305T093000
DTEND;TZID=UTC:20240305T123000
DTSTAMP:20260424T144800
CREATED:20240201T050018Z
LAST-MODIFIED:20240207T213857Z
UID:999-1709631000-1709641800@omcfsalliance.com.au
SUMMARY:Ovens Murray Child and Family Services Alliance and Centre for Excellence in Child and Family Welfare  - Young person using violence workshop
DESCRIPTION:Ovens Murray Child and Family Services Alliance and Centre for Excellence in Child and Family Welfare – Young person using violence workshop\nMarch 5th\, 915am registration\nRegistrations CLOSED
URL:https://omcfsalliance.com.au/training-and-practice/ovens-murray-child-and-family-services-alliance-and-centre-for-excellence-in-child-and-family-welfare-young-person-using-violence-workshop/
LOCATION:Quality Hotel Wangaratta Gateway
ATTACH;FMTTYPE=image/jpeg:https://omcfsalliance.com.au/wp-content/uploads/2024/02/omcfslogo-small.jpg
ORGANIZER;CN="Michelle Clarke":MAILTO:OMAlliance@umfc.com.au
END:VEVENT
END:VCALENDAR