BEGIN:VCALENDAR
VERSION:2.0
PRODID:-//Ovens Murray Child &amp; Family Services Alliance - ECPv6.7.1//NONSGML v1.0//EN
CALSCALE:GREGORIAN
METHOD:PUBLISH
X-ORIGINAL-URL:https://omcfsalliance.com.au
X-WR-CALDESC:Events for Ovens Murray Child &amp; Family Services Alliance
REFRESH-INTERVAL;VALUE=DURATION:PT1H
X-Robots-Tag:noindex
X-PUBLISHED-TTL:PT1H
BEGIN:VTIMEZONE
TZID:UTC
BEGIN:STANDARD
TZOFFSETFROM:+0000
TZOFFSETTO:+0000
TZNAME:UTC
DTSTART:20240101T000000
END:STANDARD
END:VTIMEZONE
BEGIN:VEVENT
DTSTART;TZID=UTC:20240229T091500
DTEND;TZID=UTC:20240229T163000
DTSTAMP:20260424T144905
CREATED:20240205T030158Z
LAST-MODIFIED:20240205T030158Z
UID:1035-1709198100-1709224200@omcfsalliance.com.au
SUMMARY:SAFE + EQUAL - MARAM Working with adults who use family violence - Identification
DESCRIPTION:Do you work with adults using family violence in your role? This new MARAM offering from Safe and Equal is suitable for all professionals who may identify family violence is occurring and who engage with people in a one-off\, episodic or ongoing service. This one-day training focuses on working with adults using family violence. \nDuring this training\, you will learn to identify indicators for a person likely to be using family violence by observation of common narratives and behaviours. You will also learn how to respond according to your roles and responsibilities and will be supported to use the Identification Tool. \n  \nWho can attend?  \n\nAll professionals who may identify family violence is occurring and who engage with people in a one-off\, episodic or ongoing service\n\n  \nAreas covered:  \nOn successful completion\, participants will be able to practice concepts related to working with adults using family violence\, including: \n\nApplying MARAM foundational knowledge and practice guidance to identification MARAM practice responsibilities\nIdentifying indicators for an adult likely to be using family violence by observation of common narratives and behaviours\, including denial\, minimisation\, justification\, and externalisation of responsibility for violence\nDeveloping understanding and confidence in safe engagement and appropriate questioning to support identifying family violence risk\nUnderstanding how and when to use the Identification Tool in practice\n\n  \nUpcoming sessions:  \n\nFriday 23 February\, 9.15 am – 4.30 pm\nThursday 29 February\, 9.15 am – 4.30 pm\nMore training dates in March available through our website\n\n  \nCost: Free for all participants\n\n\n\n\n\n\nRegister here
URL:https://omcfsalliance.com.au/training-and-practice/safe-equal-maram-working-with-adults-who-use-family-violence-identification-3/
END:VEVENT
END:VCALENDAR