BEGIN:VCALENDAR
VERSION:2.0
PRODID:-//Ovens Murray Child &amp; Family Services Alliance - ECPv6.7.1//NONSGML v1.0//EN
CALSCALE:GREGORIAN
METHOD:PUBLISH
X-ORIGINAL-URL:https://omcfsalliance.com.au
X-WR-CALDESC:Events for Ovens Murray Child &amp; Family Services Alliance
REFRESH-INTERVAL;VALUE=DURATION:PT1H
X-Robots-Tag:noindex
X-PUBLISHED-TTL:PT1H
BEGIN:VTIMEZONE
TZID:UTC
BEGIN:STANDARD
TZOFFSETFROM:+0000
TZOFFSETTO:+0000
TZNAME:UTC
DTSTART:20240101T000000
END:STANDARD
END:VTIMEZONE
BEGIN:VEVENT
DTSTART;TZID=UTC:20240228T130000
DTEND;TZID=UTC:20240228T140000
DTSTAMP:20260424T144905
CREATED:20240205T030749Z
LAST-MODIFIED:20240205T030848Z
UID:1037-1709125200-1709128800@omcfsalliance.com.au
SUMMARY:AIFS and Emerging Minds- Supporting family and child mental health in the face of severe weather events and disasters
DESCRIPTION:Presenters: Bron Sparkes\, Dr Andrea Baldwin\, Sarah Eagland and Ben Rogers \nPartner: Emerging Minds \nDate & time: Wednesday 28 February 2024\, 1:00 – 2:00PM (AEDT). Find your time zone.\n\n\n\n\n\n\nRegister\n\n\n\n\n\n\n\n\n\nThe number of severe weather events and disasters has increased significantly in recent decades. These events are lasting longer and having a greater impact with many families experiencing multiple disasters one after the other or even at the same time. \nWith a growing number of Australians faced with disasters\, there is also growing awareness that these events significantly impact the emotional wellbeing of infants and children. However\, there has been little exploration of how family structures and dynamics affect children’s recovery from these events. \nIn the face of extreme weather events and disasters\, parents and caregivers can play a major role in keeping infants and children physically safe and emotionally well. But these events affect every member of the family\, and the family unit as a whole. Caring for infant and child mental health requires effective support for families. \nSome parents and caregivers say going through these events has brought the family closer together and strengthened their relationships. At the same time\, this journey can be extremely challenging. Recovery can bring grief\, anger and worry for parents and children. Often families must relocate or rebuild\, change social circles\, navigate multiple services and manage financial stressors\, all of which can put further strain on family relationships. Research shows that families who’ve gone through a disaster are more likely to experience parental separation\, family violence and substance misuse\, which can further impact child wellbeing. \nThis webinar will explore the complex interplay of factors that can support or disrupt the wellbeing of whole families following a severe weather event or disaster\, and how these factors in turn affect infant and child mental health. From practice and lived-experience perspectives\, the panellists will discuss evidence-informed approaches of how best to support children and families in the weeks\, months and years following these events. \nThis webinar will help you: \n\nrecognise the factors that affect the mental health and emotional wellbeing of infants\, children and families following a disaster\n\n\nunderstand the role of the family unit in supporting the recovery of infants and children after a disaster\n\n\ndevelop awareness of family-focused approaches – including practices within the education context – that can support infants\, children\, parents\, caregivers and the whole family unit after a disaster.\n\nThis webinar will interest practitioners working in health\, social and community services who have contact with children and families who have experienced a severe weather event or disaster or may experience one in the future. \nWhile you will begiven a chance to ask questions during the webinar\, we encourage you to send through questions in advance in the registration form. \nThis webinar is co-produced by CFCA and Emerging Minds in a series focusing on children’s mental health. They are working together as part of the Emerging Minds: National Workforce Centre for Child Mental Health\, which is funded by the Australian Government Department of Health and Aged Care under the National Support for Child and Youth Mental Health Program.\n\n\n\n  \n 
URL:https://omcfsalliance.com.au/training-and-practice/aifs-supporting-family-and-child-mental-health-in-the-face-of-severe-weather-events-and-disasters/
END:VEVENT
END:VCALENDAR