BEGIN:VCALENDAR
VERSION:2.0
PRODID:-//Ovens Murray Child &amp; Family Services Alliance - ECPv6.7.1//NONSGML v1.0//EN
CALSCALE:GREGORIAN
METHOD:PUBLISH
X-ORIGINAL-URL:https://omcfsalliance.com.au
X-WR-CALDESC:Events for Ovens Murray Child &amp; Family Services Alliance
REFRESH-INTERVAL;VALUE=DURATION:PT1H
X-Robots-Tag:noindex
X-PUBLISHED-TTL:PT1H
BEGIN:VTIMEZONE
TZID:UTC
BEGIN:STANDARD
TZOFFSETFROM:+0000
TZOFFSETTO:+0000
TZNAME:UTC
DTSTART:20240101T000000
END:STANDARD
END:VTIMEZONE
BEGIN:VEVENT
DTSTART;TZID=UTC:20240216T100000
DTEND;TZID=UTC:20240216T130000
DTSTAMP:20260424T162229
CREATED:20240201T042753Z
LAST-MODIFIED:20240201T042753Z
UID:985-1708077600-1708088400@omcfsalliance.com.au
SUMMARY:No To Violence Training: The Five Essential Discussion Tools
DESCRIPTION:This interactive online training session provides national training to practitioners and counsellors working directly with men using family violence.\nPerfect for experienced practitioners who work directly with men using family violence (one on one\, group work or case management) in specialist family violence\, AOD\, mental health and child protection sectors\, this training is designed to refresh and upskill practitioners in de-escalation techniques to reduce harm.\nThe Five Essential Tools are drawn from the experience of specialist work in MBC programs and have been packaged in a way that assists in engaging men in meaningful conversations.\nThe tools include specialist engagement and holding strategies specific to working with men using family violence\, and uniquely applies these tools to face to face\, telephone and online responses. \nClick here to register
URL:https://omcfsalliance.com.au/training-and-practice/no-to-violence-training-the-five-essential-discussion-tools/
END:VEVENT
END:VCALENDAR