BEGIN:VCALENDAR
VERSION:2.0
PRODID:-//Ovens Murray Child &amp; Family Services Alliance - ECPv6.7.1//NONSGML v1.0//EN
CALSCALE:GREGORIAN
METHOD:PUBLISH
X-ORIGINAL-URL:https://omcfsalliance.com.au
X-WR-CALDESC:Events for Ovens Murray Child &amp; Family Services Alliance
REFRESH-INTERVAL;VALUE=DURATION:PT1H
X-Robots-Tag:noindex
X-PUBLISHED-TTL:PT1H
BEGIN:VTIMEZONE
TZID:UTC
BEGIN:STANDARD
TZOFFSETFROM:+0000
TZOFFSETTO:+0000
TZNAME:UTC
DTSTART:20230101T000000
END:STANDARD
END:VTIMEZONE
BEGIN:VEVENT
DTSTART;TZID=UTC:20231212T100000
DTEND;TZID=UTC:20231212T120000
DTSTAMP:20260424T193708
CREATED:20231018T000208Z
LAST-MODIFIED:20231018T002831Z
UID:181-1702375200-1702382400@omcfsalliance.com.au
SUMMARY:NDIS: tips and strategies to support families at risk\, Part ONE
DESCRIPTION:The ‘Working with the NDIS to support families at risk’ workshops are run in two parts. \nYou can register for both parts below. \nHere is a page with all of the resources and links we will share during the NDIS workshops. \nClick here to return to the NDIS Course Page.
URL:https://omcfsalliance.com.au/training-and-practice/ndis-tips-and-strategies-to-support-families-at-risk-part-one-2/
END:VEVENT
BEGIN:VEVENT
DTSTART;TZID=UTC:20231212T130000
DTEND;TZID=UTC:20231212T150000
DTSTAMP:20260424T193708
CREATED:20231018T000610Z
LAST-MODIFIED:20231018T002730Z
UID:183-1702386000-1702393200@omcfsalliance.com.au
SUMMARY:NDIS: Tips and Strategies to Support Families at Risk\, PART TWO
DESCRIPTION:The ‘Working with the NDIS to support families at risk’ workshops are run in two parts. \nYou can register for both parts below. \nHere is a page with all of the resources and links we will share during the NDIS workshops. \nClick here to return to the NDIS Course Page.
URL:https://omcfsalliance.com.au/training-and-practice/ndis-tips-and-strategies-to-support-families-at-risk-part-two-2/
END:VEVENT
END:VCALENDAR