BEGIN:VCALENDAR
VERSION:2.0
PRODID:-//Ovens Murray Child &amp; Family Services Alliance - ECPv6.7.1//NONSGML v1.0//EN
CALSCALE:GREGORIAN
METHOD:PUBLISH
X-WR-CALNAME:Ovens Murray Child &amp; Family Services Alliance
X-ORIGINAL-URL:https://omcfsalliance.com.au
X-WR-CALDESC:Events for Ovens Murray Child &amp; Family Services Alliance
REFRESH-INTERVAL;VALUE=DURATION:PT1H
X-Robots-Tag:noindex
X-PUBLISHED-TTL:PT1H
BEGIN:VTIMEZONE
TZID:UTC
BEGIN:STANDARD
TZOFFSETFROM:+0000
TZOFFSETTO:+0000
TZNAME:UTC
DTSTART:20230101T000000
END:STANDARD
END:VTIMEZONE
BEGIN:VEVENT
DTSTART;TZID=UTC:20231205T093000
DTEND;TZID=UTC:20231205T100000
DTSTAMP:20260424T193556
CREATED:20231018T001202Z
LAST-MODIFIED:20231018T002931Z
UID:196-1701768600-1701770400@omcfsalliance.com.au
SUMMARY:Ovens Murray The Orange Door Referral Workshop
DESCRIPTION:
URL:https://omcfsalliance.com.au/training-and-practice/ovens-murray-the-orange-door-referral-workshop-2/
END:VEVENT
END:VCALENDAR